BEGIN:VCALENDAR
VERSION:2.0
PRODID:-//Max 98.3 - ECPv4.6.26//NONSGML v1.0//EN
CALSCALE:GREGORIAN
METHOD:PUBLISH
X-WR-CALNAME:Max 98.3
X-ORIGINAL-URL:https://max983.ca
X-WR-CALDESC:Events for Max 98.3
BEGIN:VEVENT
DTSTART;TZID=America/Halifax:20191206T190000
DTEND;TZID=America/Halifax:20191206T203000
DTSTAMP:20260419T185114
CREATED:20191126T194653Z
LAST-MODIFIED:20191126T194653Z
UID:7098-1575658800-1575664200@max983.ca
SUMMARY:McConnell Library
DESCRIPTION:Yuletide CD Launch\nFriday\, Dec 6th 7-8:30 pm\nMcConnell Library\, 50 Falmouth St\, Sydney \nGet into the Christmas spirit and enjoy some live seasonal music as Cape Breton musicians Elizabeth Patterson and David Burke launch their new Christmas CD. Elizabeth and David are a contemporary instrumental duo from Sydney who have been performing together for more than 20 years. They now have three CDs to their credit including this most recent one\, Yuletide. \n  \nEveryone welcome! \n
URL:https://max983.ca/event/mcconnell-library-30/
END:VEVENT
END:VCALENDAR