BEGIN:VCALENDAR
VERSION:2.0
PRODID:-//Max 98.3 - ECPv4.6.26//NONSGML v1.0//EN
CALSCALE:GREGORIAN
METHOD:PUBLISH
X-WR-CALNAME:Max 98.3
X-ORIGINAL-URL:https://max983.ca
X-WR-CALDESC:Events for Max 98.3
BEGIN:VEVENT
DTSTART;TZID=America/Halifax:20200311T183000
DTEND;TZID=America/Halifax:20200311T203000
DTSTAMP:20260419T170202
CREATED:20200304T194126Z
LAST-MODIFIED:20200304T194126Z
UID:7907-1583951400-1583958600@max983.ca
SUMMARY:McConnell Library
DESCRIPTION:Natural History Film: People of a Feather (2011\, 90 min)\nWed March 11th\, 6:30-8:30 pm\nMcConnell Library. 50 Falmouth St\, Sydney \nIn this award-winning film\, the Inuit of Sanikiluaq on the Belcher Islands of Hudson Bay\, and the eider ducks they depend on\, confront the challenges of environmental change in the Arctic as traditional ways collide with the effects of the modern world.  The cinematography has been described as stunning\, poetic and artistic\, and the film as “crucial” and not just for the environmentally conscious.  Inspired by Inuit ingenuity and the technology of a simple feather\, the film is a call to action to implement energy solutions that work with nature. \nEveryone welcome. \n
URL:https://max983.ca/event/mcconnell-library-35/
END:VEVENT
END:VCALENDAR