BEGIN:VCALENDAR
VERSION:2.0
PRODID:-//Max 98.3 - ECPv4.6.26//NONSGML v1.0//EN
CALSCALE:GREGORIAN
METHOD:PUBLISH
X-WR-CALNAME:Max 98.3
X-ORIGINAL-URL:https://max983.ca
X-WR-CALDESC:Events for Max 98.3
BEGIN:VEVENT
DTSTART;TZID=America/Halifax:20170517T190000
DTEND;TZID=America/Halifax:20170517T210000
DTSTAMP:20260423T175906
CREATED:20170509T142958Z
LAST-MODIFIED:20170509T142958Z
UID:2575-1495047600-1495054800@max983.ca
SUMMARY:McConnell Library - Natural History Series
DESCRIPTION:Natural History Series: Nature as Captured in Images\nWednesday May 17th\, 7:00-9:00 pm \n  \nEnjoy an evening of nature and travel photography presented by members of the Cape Breton Naturalists’ Society. Everyone welcome. \n
URL:https://max983.ca/event/mcconnell-library-natural-history-series/
END:VEVENT
END:VCALENDAR