BEGIN:VCALENDAR
VERSION:2.0
PRODID:-//Max 98.3 - ECPv4.6.26//NONSGML v1.0//EN
CALSCALE:GREGORIAN
METHOD:PUBLISH
X-WR-CALNAME:Max 98.3
X-ORIGINAL-URL:https://max983.ca
X-WR-CALDESC:Events for Max 98.3
BEGIN:VEVENT
DTSTART;VALUE=DATE:20191107
DTEND;VALUE=DATE:20191111
DTSTAMP:20260419T204342
CREATED:20191104T141952Z
LAST-MODIFIED:20191104T141952Z
UID:6901-1573084800-1573430399@max983.ca
SUMMARY:Memorial Green and Gold Hockey Tournament
DESCRIPTION:\nMemorial Marauders 2019 Mae Kibyuk Memorial Green & Gold Hockey Tournament takes place: Thursday\, November 7th to Sunday\, November 10th at The Emera Centre\, North Sydney.\nSaturday\, November 9th\, during the Memorial Marauders 2019 Mae Kibyuk Memorial GREEN & GOLD Hockey tournament we will be promoting: MHS ALUMNI DAY at THE RINK\n\nWe are working very hard this year to promote this event in an attempt to build both school & community spirit. (Check out our Facebook Event: MHS ALUMNI DAY at the Emera Centre).\nDuring this day we will be hosting an MHS Alumni game at approximately 4:30pm with all proceeds going to support Memorial High School SAFE GRAD 2020. Donations in support of MHS Safe Grad can also be dropped off in advance at Scotiabank North Sydney.\nWe are asking Alumni to sport their green & gold and classic MHS gear as there will be prizes awarded to the Alumni with the most SPIRIT!\nIf anyone missed out on purchasing yearbooks from their MHS days\, we will be selling copies of remaining yearbooks for $5.00 each.\nAlong with our very own MHS Marauders\, Scotiabank North Sydney will be on the scene helping with games\, face painting\, prizes\, draws\, etc\n\n\n\n
URL:https://max983.ca/event/memorial-green-and-gold-hockey-tournament/
END:VEVENT
END:VCALENDAR