BEGIN:VCALENDAR
VERSION:2.0
PRODID:-//Max 98.3 - ECPv4.6.26//NONSGML v1.0//EN
CALSCALE:GREGORIAN
METHOD:PUBLISH
X-WR-CALNAME:Max 98.3
X-ORIGINAL-URL:https://max983.ca
X-WR-CALDESC:Events for Max 98.3
BEGIN:VEVENT
DTSTART;TZID=America/Halifax:20200219T140000
DTEND;TZID=America/Halifax:20200219T160000
DTSTAMP:20260419T235704
CREATED:20200120T133947Z
LAST-MODIFIED:20200120T133947Z
UID:7352-1582120800-1582128000@max983.ca
SUMMARY:Mira Centre Card Game
DESCRIPTION:Wednesday February 19th Cards at the Centre from 2 – 4 p.m. Cost is $5.00 Everyone is welcome. \n  \n
URL:https://max983.ca/event/mira-centre-card-game-2/
END:VEVENT
END:VCALENDAR