BEGIN:VCALENDAR
VERSION:2.0
PRODID:-//Max 98.3 - ECPv4.6.26//NONSGML v1.0//EN
CALSCALE:GREGORIAN
METHOD:PUBLISH
X-WR-CALNAME:Max 98.3
X-ORIGINAL-URL:https://max983.ca
X-WR-CALDESC:Events for Max 98.3
BEGIN:VEVENT
DTSTART;TZID=America/Halifax:20211204T110000
DTEND;TZID=America/Halifax:20211204T130000
DTSTAMP:20260421T033431
CREATED:20211116T211918Z
LAST-MODIFIED:20211116T211918Z
UID:11146-1638615600-1638622800@max983.ca
SUMMARY:Mira Centre Fundraiser Bake Sale\, Trinkets and Treasures
DESCRIPTION:
URL:https://max983.ca/event/mira-centre-fundraiser-bake-sale-trinkets-and-treasures/
CATEGORIES:Community Event
ATTACH;FMTTYPE=image/jpeg:https://max983.ca/wp-content/uploads/sites/24/2021/11/257546592_2903232013321389_6433227354703862299_n.jpg
END:VEVENT
END:VCALENDAR