BEGIN:VCALENDAR
VERSION:2.0
PRODID:-//Max 98.3 - ECPv4.6.26//NONSGML v1.0//EN
CALSCALE:GREGORIAN
METHOD:PUBLISH
X-WR-CALNAME:Max 98.3
X-ORIGINAL-URL:https://max983.ca
X-WR-CALDESC:Events for Max 98.3
BEGIN:VEVENT
DTSTART;TZID=America/Halifax:20170227T080000
DTEND;TZID=America/Halifax:20170227T170000
DTSTAMP:20260424T043314
CREATED:20170227T175627Z
LAST-MODIFIED:20170227T175627Z
UID:2012-1488182400-1488214800@max983.ca
SUMMARY:Mira Gala Organizers Meeting
DESCRIPTION: \n\n\n\nThe next gala organizing meeting will take place in Marion Bridge at the Mira Centre\, 4037 Gabarus Highway\, on Sunday March 5 at 7 p.m. All groups\, organizations and individuals are needed to make this a reality. Any interested volunteers are encouraged to attend.\n\n\n\n
URL:https://max983.ca/event/mira-gala-organizers-meeting/
END:VEVENT
END:VCALENDAR