BEGIN:VCALENDAR
VERSION:2.0
PRODID:-//Max 98.3 - ECPv4.6.26//NONSGML v1.0//EN
CALSCALE:GREGORIAN
METHOD:PUBLISH
X-WR-CALNAME:Max 98.3
X-ORIGINAL-URL:https://max983.ca
X-WR-CALDESC:Events for Max 98.3
BEGIN:VEVENT
DTSTART;TZID=America/Halifax:20171130T140000
DTEND;TZID=America/Halifax:20171130T160000
DTSTAMP:20260420T200655
CREATED:20171115T131725Z
LAST-MODIFIED:20171115T131725Z
UID:3509-1512050400-1512057600@max983.ca
SUMMARY:New Waterford Library
DESCRIPTION:Share Your Family’s Stories\nNew Waterford Library\nThursday\, Nov. 30th\n2 PM\n\nJoin CBRL’s Storyteller-in-Residence\, Ronald Labelle for an afternoon to share the interesting stories and characters that you’ve uncovered doing your family genealogy. \nEveryone is welcome to this free storytelling event. \nCall the New Waterford Library for more info. \n902-862-2892 \n
URL:https://max983.ca/event/new-waterford-library-2/
END:VEVENT
END:VCALENDAR