BEGIN:VCALENDAR
VERSION:2.0
PRODID:-//Max 98.3 - ECPv4.6.26//NONSGML v1.0//EN
CALSCALE:GREGORIAN
METHOD:PUBLISH
X-WR-CALNAME:Max 98.3
X-ORIGINAL-URL:https://max983.ca
X-WR-CALDESC:Events for Max 98.3
BEGIN:VEVENT
DTSTART;VALUE=DATE:20250212
DTEND;VALUE=DATE:20250321
DTSTAMP:20260420T165133
CREATED:20250212T152554Z
LAST-MODIFIED:20250212T152554Z
UID:14522-1739318400-1742515199@max983.ca
SUMMARY:Nova Scotia Breast Screening Mobile
DESCRIPTION:The Nova Scotia Breast Screening Mobile will be located at The Cape Breton Regional Hospital from Feb 3\, 2025 – March 20\, 2025. To book an appointment please call 1-800-565-0548 and have your Health Card number ready. \n
URL:https://max983.ca/event/nova-scotia-breast-screening-mobile/
END:VEVENT
END:VCALENDAR