BEGIN:VCALENDAR
VERSION:2.0
PRODID:-//Max 98.3 - ECPv4.6.26//NONSGML v1.0//EN
CALSCALE:GREGORIAN
METHOD:PUBLISH
X-WR-CALNAME:Max 98.3
X-ORIGINAL-URL:https://max983.ca
X-WR-CALDESC:Events for Max 98.3
BEGIN:VEVENT
DTSTART;TZID=America/Halifax:20191005T150000
DTEND;TZID=America/Halifax:20191005T220000
DTSTAMP:20260425T140848
CREATED:20190904T175800Z
LAST-MODIFIED:20190904T175800Z
UID:6610-1570287600-1570312800@max983.ca
SUMMARY:Oktoberfest in Marion Bridge
DESCRIPTION:Annual Oktoberfest in Marion Bridge.\nBratwurst\, Sauerkraut\, Pretzels & more.\nBig Spruce on Tap. 19+ Event\, Cash only.\nAdmission Fee $5.00\nSamstag October 5 from 3.00 PM – 10:00 PM\n4037 Gabarus Hwy\, Marion Bridge\nThis is a fundraiser for the Mira Centre in Marion Bridge \n
URL:https://max983.ca/event/oktoberfest-in-marion-bridge/
END:VEVENT
END:VCALENDAR