BEGIN:VCALENDAR
VERSION:2.0
PRODID:-//Max 98.3 - ECPv4.6.26//NONSGML v1.0//EN
CALSCALE:GREGORIAN
METHOD:PUBLISH
X-WR-CALNAME:Max 98.3
X-ORIGINAL-URL:https://max983.ca
X-WR-CALDESC:Events for Max 98.3
BEGIN:VEVENT
DTSTART;VALUE=DATE:20170305
DTEND;VALUE=DATE:20170306
DTSTAMP:20260423T184132
CREATED:20170216T205107Z
LAST-MODIFIED:20170216T205107Z
UID:1922-1488672000-1488758399@max983.ca
SUMMARY:Pancake and sausage breakfast
DESCRIPTION:Holy Family C.W.L will be hasting a pancake and sausage breakfast on March 5th at Holy Family Parish Hall\, Main St. Sydney Mines From 11A.M to 1 P.M. Price is $8.00 \n
URL:https://max983.ca/event/pancake-and-sausage-breakfast/
END:VEVENT
END:VCALENDAR