BEGIN:VCALENDAR
VERSION:2.0
PRODID:-//Max 98.3 - ECPv4.6.26//NONSGML v1.0//EN
CALSCALE:GREGORIAN
METHOD:PUBLISH
X-WR-CALNAME:Max 98.3
X-ORIGINAL-URL:https://max983.ca
X-WR-CALDESC:Events for Max 98.3
BEGIN:VEVENT
DTSTART;TZID=America/Halifax:20250222T080000
DTEND;TZID=America/Halifax:20250222T110000
DTSTAMP:20260422T121406
CREATED:20250212T153636Z
LAST-MODIFIED:20250212T153636Z
UID:14526-1740211200-1740222000@max983.ca
SUMMARY:Pancake Breakfast
DESCRIPTION:Saturday\, February 22\, 2025 at the Good Shepherd Church Hall.  Take out 8am-9am.  Eat-in – 9:30am to 11am.  Adults $8\, child $5.  For further information\, call Susan at 849-0794.  Tickets available from any member of the Good Shepherd Group. \n
URL:https://max983.ca/event/pancake-breakfast-4/
END:VEVENT
END:VCALENDAR