BEGIN:VCALENDAR
VERSION:2.0
PRODID:-//Max 98.3 - ECPv4.6.26//NONSGML v1.0//EN
CALSCALE:GREGORIAN
METHOD:PUBLISH
X-WR-CALNAME:Max 98.3
X-ORIGINAL-URL:https://max983.ca
X-WR-CALDESC:Events for Max 98.3
BEGIN:VEVENT
DTSTART;TZID=America/Halifax:20170910T110000
DTEND;TZID=America/Halifax:20170910T140000
DTSTAMP:20260421T043439
CREATED:20170905T181850Z
LAST-MODIFIED:20170905T181850Z
UID:3133-1505041200-1505052000@max983.ca
SUMMARY:Parkinson Super Walk
DESCRIPTION:The Parkinson SuperWalk please ? It will be held next Sunday\, Sept. 10th at the Grand Lake Rd. Fire Hall. Registration will start at 11 AM and we will have food prizes\, live music and of course the walk which will be at 1 PM. \n
URL:https://max983.ca/event/parkinson-super-walk/
END:VEVENT
END:VCALENDAR