BEGIN:VCALENDAR
VERSION:2.0
PRODID:-//Max 98.3 - ECPv4.6.26//NONSGML v1.0//EN
CALSCALE:GREGORIAN
METHOD:PUBLISH
X-WR-CALNAME:Max 98.3
X-ORIGINAL-URL:https://max983.ca
X-WR-CALDESC:Events for Max 98.3
BEGIN:VEVENT
DTSTART;TZID=America/Halifax:20230206T183000
DTEND;TZID=America/Halifax:20230206T193000
DTSTAMP:20260424T082631
CREATED:20230202T141635Z
LAST-MODIFIED:20230202T141635Z
UID:12359-1675708200-1675711800@max983.ca
SUMMARY:Pokemon Club 1
DESCRIPTION:Mon Feb 6\n6:30pm – 7:30pm\nGlace Bay Library\nWe Choose You! Gotta Catch ‘em all at out pokemon club. Registration required. Please call 902-849-8657 to register. \n
URL:https://max983.ca/event/pokemon-club-1/
END:VEVENT
END:VCALENDAR