BEGIN:VCALENDAR
VERSION:2.0
PRODID:-//Max 98.3 - ECPv4.6.26//NONSGML v1.0//EN
CALSCALE:GREGORIAN
METHOD:PUBLISH
X-WR-CALNAME:Max 98.3
X-ORIGINAL-URL:https://max983.ca
X-WR-CALDESC:Events for Max 98.3
BEGIN:VEVENT
DTSTART;TZID=America/Halifax:20260503T083000
DTEND;TZID=America/Halifax:20260503T110000
DTSTAMP:20260424T004318
CREATED:20260423T133454Z
LAST-MODIFIED:20260423T133454Z
UID:15654-1777797000-1777806000@max983.ca
SUMMARY:PORT MORIEN COUNTRY BREAKFAST
DESCRIPTION:A Country Breakfast featuring pancakes\, sausages and scrambled eggs will be held at the Port Morien Legion\, RCL Br. 055\, on Sunday\, May 3rd from 8:30 to 11 a.m. Admission: Adults $10\, Children $6. ***50% of the proceeds will be donated to the Port Morien Wildlife Association in support of the Youth Fishing Derby. \n
URL:https://max983.ca/event/port-morien-country-breakfast-4/
END:VEVENT
END:VCALENDAR