BEGIN:VCALENDAR
VERSION:2.0
PRODID:-//Max 98.3 - ECPv4.6.26//NONSGML v1.0//EN
CALSCALE:GREGORIAN
METHOD:PUBLISH
X-WR-CALNAME:Max 98.3
X-ORIGINAL-URL:https://max983.ca
X-WR-CALDESC:Events for Max 98.3
BEGIN:VEVENT
DTSTART;TZID=America/Halifax:20190825T103000
DTEND;TZID=America/Halifax:20190825T120000
DTSTAMP:20260424T150405
CREATED:20190820T172126Z
LAST-MODIFIED:20190820T172126Z
UID:6560-1566729000-1566734400@max983.ca
SUMMARY:Ride Isle Madame! Cycling Event
DESCRIPTION:Ride Isle Madame! \nStarting Time and Location\nSunday Aug 25 10:30 AM at the Provincial Park in Martinique\, 5 km on your left after the bridge to Isle Madame. \nAbout The Event\nIf you’ve never ridden on Isle Madame\, here’s your chance to visit the quiet side of the island. Isle Madame awaits you with some new pavement\, low traffic\, a scenic stretch along the water and a place to stop for lunch in Arichat. \nIt will be a 35 km ride from the Martinique Park through countryside to D’Escousse\, Poirier\, Pondville\, around Cap La Ronde\, Rocky Bay and then to Arichat for lunch. It returns by an inland route with few or no cars\, just nature and lakes (pavement not great but good.) \nFrom Arichat there is a 15 km optional extra loop for those who would like to go further.\n.\nJoin us — ride together for safety and for fun! Ride leader: Russell Rollinson (russrollinson@gmail.com) \nCost to non-members: $2.00 \n
URL:https://max983.ca/event/ride-isle-madame-cycling-event-2/
END:VEVENT
END:VCALENDAR