BEGIN:VCALENDAR
VERSION:2.0
PRODID:-//Max 98.3 - ECPv4.6.26//NONSGML v1.0//EN
CALSCALE:GREGORIAN
METHOD:PUBLISH
X-WR-CALNAME:Max 98.3
X-ORIGINAL-URL:https://max983.ca
X-WR-CALDESC:Events for Max 98.3
BEGIN:VEVENT
DTSTART;TZID=America/Halifax:20190412T180000
DTEND;TZID=America/Halifax:20190412T200000
DTSTAMP:20260422T121652
CREATED:20190408T133027Z
LAST-MODIFIED:20190408T133027Z
UID:5840-1555092000-1555099200@max983.ca
SUMMARY:Rising Tide Festival
DESCRIPTION:Cape Fear: Trauma\, Privation\, & the Cost of Hard Living \nFriday\, April 12 @ 6 PM \nJohn J. Nugent Firemen’s Centre\, Sydney Mines \nA presentation by Dr. Edward Michalik as he explores how the history of CBRM has contributed to high rates of substance use in the community. \n
URL:https://max983.ca/event/rising-tide-festival/
END:VEVENT
END:VCALENDAR