BEGIN:VCALENDAR
VERSION:2.0
PRODID:-//Max 98.3 - ECPv4.6.26//NONSGML v1.0//EN
CALSCALE:GREGORIAN
METHOD:PUBLISH
X-WR-CALNAME:Max 98.3
X-ORIGINAL-URL:https://max983.ca
X-WR-CALDESC:Events for Max 98.3
BEGIN:VEVENT
DTSTART;TZID=America/Halifax:20260503T160000
DTEND;TZID=America/Halifax:20260503T180000
DTSTAMP:20260421T225831
CREATED:20260325T142611Z
LAST-MODIFIED:20260325T142611Z
UID:15580-1777824000-1777831200@max983.ca
SUMMARY:Senior social
DESCRIPTION:May 3rd 4pm-6pm\nJoin us for a yummy bowl of turkey soup\nDinner roll & Dessert tea or coffee\n$10\nEat in only !\nPre-order Only!\nAlicia 902-317-0504\n1748 Alexandra st prime brook\nBrookshaven hall \n
URL:https://max983.ca/event/senior-social-2-2/
END:VEVENT
END:VCALENDAR