BEGIN:VCALENDAR
VERSION:2.0
PRODID:-//Max 98.3 - ECPv4.6.26//NONSGML v1.0//EN
CALSCALE:GREGORIAN
METHOD:PUBLISH
X-WR-CALNAME:Max 98.3
X-ORIGINAL-URL:https://max983.ca
X-WR-CALDESC:Events for Max 98.3
BEGIN:VEVENT
DTSTART;TZID=America/Halifax:20190210T130000
DTEND;TZID=America/Halifax:20190210T160000
DTSTAMP:20260424T095453
CREATED:20190121T180512Z
LAST-MODIFIED:20190121T180512Z
UID:5538-1549803600-1549814400@max983.ca
SUMMARY:Snowshoe Hike
DESCRIPTION:Hector’s Point Snowshoe Hike: Feb. 10\nHike Nova Scotia\, the Highland Village Museum\, Jill’s Chocolates and the Iona Heights Inn present a guided snowshoe hike at Hector’s Point in Iona on February 10 at 1 pm. Cost is $10 with your own snowshoes (or reserve rentals). You must pre-register at www.ionaheightsinn.com/event. Qualify to win a trail prize. See www.hikenovascotia.ca for details. \n
URL:https://max983.ca/event/snowshoe-hike-2/
END:VEVENT
END:VCALENDAR