BEGIN:VCALENDAR
VERSION:2.0
PRODID:-//Max 98.3 - ECPv4.6.26//NONSGML v1.0//EN
CALSCALE:GREGORIAN
METHOD:PUBLISH
X-WR-CALNAME:Max 98.3
X-ORIGINAL-URL:https://max983.ca
X-WR-CALDESC:Events for Max 98.3
BEGIN:VEVENT
DTSTART;TZID=America/Halifax:20170523T183000
DTEND;TZID=America/Halifax:20170523T200000
DTSTAMP:20260424T082858
CREATED:20170516T172011Z
LAST-MODIFIED:20170516T172011Z
UID:2655-1495564200-1495569600@max983.ca
SUMMARY:SOS (Survivors of Suicide) Meeting
DESCRIPTION:THERE WILL BE A MEETING OF SOS (Survivors of Suicide) CAPE BRETON ON TUESDAY\, MAY 23\, 2017 at 6:30pm — 188 GEORGE STREET (Fr. Capstick Building). Anyone grieving the loss of someone by suicide is welcomed to the meeting. These meetings are held on the 4th Tuesday of each month except December. \n
URL:https://max983.ca/event/sos-survivors-of-suicide-meeting-2/
END:VEVENT
END:VCALENDAR