BEGIN:VCALENDAR
VERSION:2.0
PRODID:-//Max 98.3 - ECPv4.6.26//NONSGML v1.0//EN
CALSCALE:GREGORIAN
METHOD:PUBLISH
X-WR-CALNAME:Max 98.3
X-ORIGINAL-URL:https://max983.ca
X-WR-CALDESC:Events for Max 98.3
BEGIN:VEVENT
DTSTART;TZID=America/Halifax:20230413T140000
DTEND;TZID=America/Halifax:20230413T160000
DTSTAMP:20260421T033054
CREATED:20230327T141630Z
LAST-MODIFIED:20230327T141630Z
UID:12588-1681394400-1681401600@max983.ca
SUMMARY:Sound Advice: Living with Hearing Loss
DESCRIPTION:Workshop: Sound Advice: Living with Hearing Loss\, April 13\, 2:00pm-4:00pm\, Sydney Mines Library\, 1 Fraser Ave.\, 902-564-0003. Learn communication tips\, how to read your audiogram\, help with your TV and phone and so much more. Presented by the Society of Deaf and Hard of Hearing Nova Scotians \n
URL:https://max983.ca/event/sound-advice-living-with-hearing-loss/
END:VEVENT
END:VCALENDAR