BEGIN:VCALENDAR
VERSION:2.0
PRODID:-//Max 98.3 - ECPv4.6.26//NONSGML v1.0//EN
CALSCALE:GREGORIAN
METHOD:PUBLISH
X-WR-CALNAME:Max 98.3
X-ORIGINAL-URL:https://max983.ca
X-WR-CALDESC:Events for Max 98.3
BEGIN:VEVENT
DTSTART;TZID=America/Halifax:20190504T130000
DTEND;TZID=America/Halifax:20190504T150000
DTSTAMP:20260425T132222
CREATED:20190418T163636Z
LAST-MODIFIED:20190418T163636Z
UID:5886-1556974800-1556982000@max983.ca
SUMMARY:Spring Tea and Sale
DESCRIPTION:The Little Narrows Presbyterian Ladies Aid will host its annual spring tea and sale on Saturday\, May 4th\, 1-3 pm in the church hall\, Little Narrows. Hope you can join us. \n
URL:https://max983.ca/event/spring-tea-and-sale-2/
END:VEVENT
END:VCALENDAR