BEGIN:VCALENDAR
VERSION:2.0
PRODID:-//Max 98.3 - ECPv4.6.26//NONSGML v1.0//EN
CALSCALE:GREGORIAN
METHOD:PUBLISH
X-WR-CALNAME:Max 98.3
X-ORIGINAL-URL:https://max983.ca
X-WR-CALDESC:Events for Max 98.3
BEGIN:VEVENT
DTSTART;TZID=America/Halifax:20170523T190000
DTEND;TZID=America/Halifax:20170523T203000
DTSTAMP:20260422T121747
CREATED:20170512T175117Z
LAST-MODIFIED:20170512T175117Z
UID:2616-1495566000-1495571400@max983.ca
SUMMARY:Storytelling in the Gaelic Tradition
DESCRIPTION:Tuesday\, May 23rd     7 – 8:30 PM \nMcConnell Library \nStorytelling in the Gaelic Tradition Seanchas Aig An Leabharlann \nJoin local Gaelic speakers and enthusiasts for an evening of Gaelic stories (with English translation).Everyone welcome. \n
URL:https://max983.ca/event/storytelling-in-the-gaelic-tradition/
END:VEVENT
END:VCALENDAR