BEGIN:VCALENDAR
VERSION:2.0
PRODID:-//Max 98.3 - ECPv4.6.26//NONSGML v1.0//EN
CALSCALE:GREGORIAN
METHOD:PUBLISH
X-WR-CALNAME:Max 98.3
X-ORIGINAL-URL:https://max983.ca
X-WR-CALDESC:Events for Max 98.3
BEGIN:VEVENT
DTSTART;TZID=America/Halifax:20240713T150000
DTEND;TZID=America/Halifax:20240713T170000
DTSTAMP:20260422T161456
CREATED:20240618T162151Z
LAST-MODIFIED:20240618T162151Z
UID:13929-1720882800-1720890000@max983.ca
SUMMARY:STRAWBERRY FESTIVAL
DESCRIPTION:July 13th 2024 \n3-5 PM \n$12.00 per person \nLoch Lomond Community Centre \nLoch Lomond Volunteer Fire Dept. \n
URL:https://max983.ca/event/strawberry-festival-9/
END:VEVENT
END:VCALENDAR