BEGIN:VCALENDAR
VERSION:2.0
PRODID:-//Max 98.3 - ECPv4.6.26//NONSGML v1.0//EN
CALSCALE:GREGORIAN
METHOD:PUBLISH
X-WR-CALNAME:Max 98.3
X-ORIGINAL-URL:https://max983.ca
X-WR-CALDESC:Events for Max 98.3
BEGIN:VEVENT
DTSTART;TZID=America/Halifax:20170713T110000
DTEND;TZID=America/Halifax:20170713T140000
DTSTAMP:20260424T043104
CREATED:20170628T182927Z
LAST-MODIFIED:20170628T182927Z
UID:2892-1499943600-1499954400@max983.ca
SUMMARY:Strawberry Social
DESCRIPTION:St. Paul’s Presbyterian Church\, Brookside Street\, Glace Bay.  Thursday\, July 13\, 2017.  Eat in or Take Out 11 AM – 2 PM \nTickets $8.00.  Phone: 902-737-2529 or 902-849-2479 \n
URL:https://max983.ca/event/strawberry-social/
END:VEVENT
END:VCALENDAR