BEGIN:VCALENDAR
VERSION:2.0
PRODID:-//Max 98.3 - ECPv4.6.26//NONSGML v1.0//EN
CALSCALE:GREGORIAN
METHOD:PUBLISH
X-WR-CALNAME:Max 98.3
X-ORIGINAL-URL:https://max983.ca
X-WR-CALDESC:Events for Max 98.3
BEGIN:VEVENT
DTSTART;TZID=America/Halifax:20221008T090000
DTEND;TZID=America/Halifax:20221008T180000
DTSTAMP:20260419T203143
CREATED:20221007T121658Z
LAST-MODIFIED:20221007T121658Z
UID:12051-1665219600-1665252000@max983.ca
SUMMARY:STUFF THE BUS!
DESCRIPTION:This Saturday we will be once again stuffing the bus for hunger!!\n9-6 at the No Frills parking lot in Sydney.\n\nHeather and Matthew will be there\, so come on over\, say hi and donate\n
URL:https://max983.ca/event/stuff-the-bus/
END:VEVENT
END:VCALENDAR