BEGIN:VCALENDAR
VERSION:2.0
PRODID:-//Max 98.3 - ECPv4.6.26//NONSGML v1.0//EN
CALSCALE:GREGORIAN
METHOD:PUBLISH
X-WR-CALNAME:Max 98.3
X-ORIGINAL-URL:https://max983.ca
X-WR-CALDESC:Events for Max 98.3
BEGIN:VEVENT
DTSTART;TZID=America/Halifax:20240224T100000
DTEND;TZID=America/Halifax:20240224T140000
DTSTAMP:20260419T124329
CREATED:20240201T184744Z
LAST-MODIFIED:20240201T184744Z
UID:13570-1708768800-1708783200@max983.ca
SUMMARY:Super Saturday –African Drum Craft
DESCRIPTION:Glace Bay Library \nSat Feb 24 \n10-2 \nCelebrate Black History Month and make your own African Drum craft \n  \n  \n
URL:https://max983.ca/event/super-saturday-african-drum-craft/
END:VEVENT
END:VCALENDAR