BEGIN:VCALENDAR
VERSION:2.0
PRODID:-//Max 98.3 - ECPv4.6.26//NONSGML v1.0//EN
CALSCALE:GREGORIAN
METHOD:PUBLISH
X-WR-CALNAME:Max 98.3
X-ORIGINAL-URL:https://max983.ca
X-WR-CALDESC:Events for Max 98.3
BEGIN:VEVENT
DTSTART;TZID=America/Halifax:20260523T100000
DTEND;TZID=America/Halifax:20260523T110000
DTSTAMP:20260421T005956
CREATED:20260420T180205Z
LAST-MODIFIED:20260420T180205Z
UID:15651-1779530400-1779534000@max983.ca
SUMMARY:Super Saturday: Build and Play
DESCRIPTION:Glace Bay Library \nSat May 23 10-11am \nDrop in to have fun with our lego and playdoh \n  \n
URL:https://max983.ca/event/super-saturday-build-and-play/
END:VEVENT
END:VCALENDAR