BEGIN:VCALENDAR
VERSION:2.0
PRODID:-//Max 98.3 - ECPv4.6.26//NONSGML v1.0//EN
CALSCALE:GREGORIAN
METHOD:PUBLISH
X-WR-CALNAME:Max 98.3
X-ORIGINAL-URL:https://max983.ca
X-WR-CALDESC:Events for Max 98.3
BEGIN:VEVENT
DTSTART;TZID=America/Halifax:20260509T100000
DTEND;TZID=America/Halifax:20260509T110000
DTSTAMP:20260420T232909
CREATED:20260420T175315Z
LAST-MODIFIED:20260420T175315Z
UID:15645-1778320800-1778324400@max983.ca
SUMMARY:Super Saturday: Mothers Day Card
DESCRIPTION:Glace Bay Library \nSat May 9   10-11am \nMake a Hap-Pea Mother’s day card \n  \n
URL:https://max983.ca/event/super-saturday-mothers-day-card-2/
END:VEVENT
END:VCALENDAR