BEGIN:VCALENDAR
VERSION:2.0
PRODID:-//Max 98.3 - ECPv4.6.26//NONSGML v1.0//EN
CALSCALE:GREGORIAN
METHOD:PUBLISH
X-WR-CALNAME:Max 98.3
X-ORIGINAL-URL:https://max983.ca
X-WR-CALDESC:Events for Max 98.3
BEGIN:VEVENT
DTSTART;TZID=America/Halifax:20230408T100000
DTEND;TZID=America/Halifax:20230408T120000
DTSTAMP:20260422T090846
CREATED:20230330T174315Z
LAST-MODIFIED:20230330T174315Z
UID:12600-1680948000-1680955200@max983.ca
SUMMARY:Super Saturday - Toilet Paper Press Art
DESCRIPTION:Glace Bay Library \nSaturday April 8th \n10 – 12 \nEver wanted to make toilet paper in to art?  Now you can.  Join us and local art teacher Carrie to learn how.  Registration required.  Please call the library to register. \n  \n
URL:https://max983.ca/event/super-saturday-toilet-paper-press-art/
END:VEVENT
END:VCALENDAR