BEGIN:VCALENDAR
VERSION:2.0
PRODID:-//Max 98.3 - ECPv4.6.26//NONSGML v1.0//EN
CALSCALE:GREGORIAN
METHOD:PUBLISH
X-WR-CALNAME:Max 98.3
X-ORIGINAL-URL:https://max983.ca
X-WR-CALDESC:Events for Max 98.3
BEGIN:VEVENT
DTSTART;TZID=America/Halifax:20260428T150000
DTEND;TZID=America/Halifax:20260428T160000
DTSTAMP:20260424T124809
CREATED:20260325T141554Z
LAST-MODIFIED:20260325T141554Z
UID:15575-1777388400-1777392000@max983.ca
SUMMARY:Sydney Stroke Peer Support Group
DESCRIPTION:Starting April 28. Meeting the last Tuesday of every month\, 3-4pm \nLocation: Southend Community Centre (in the Gymnasium)\, 1464 George Street\, Sydney \nOur Stroke Community Conversations group provides support\, understanding\, and encouragement for any individual impacted by stroke at any age. Through regular meetings\, we offer a safe space to share experiences\, discuss challenges\, and celebrate milestones with others. \n
URL:https://max983.ca/event/sydney-stroke-peer-support-group/
END:VEVENT
END:VCALENDAR