BEGIN:VCALENDAR
VERSION:2.0
PRODID:-//Max 98.3 - ECPv4.6.26//NONSGML v1.0//EN
CALSCALE:GREGORIAN
METHOD:PUBLISH
X-WR-CALNAME:Max 98.3
X-ORIGINAL-URL:https://max983.ca
X-WR-CALDESC:Events for Max 98.3
BEGIN:VEVENT
DTSTART;TZID=America/Halifax:20190915T130000
DTEND;TZID=America/Halifax:20190915T170000
DTSTAMP:20260419T235337
CREATED:20190912T184746Z
LAST-MODIFIED:20190912T184746Z
UID:6632-1568552400-1568566800@max983.ca
SUMMARY:Tarabish Tournament
DESCRIPTION:Sunday\, September 15 at 1:00 pm there will be a Tarabish Tournament at the Steelworkers and Sydney Pensioners Club. For tickets call Jay\, 902-565-7069\,or Myrna\, 902-562-2962. All welcome. \n
URL:https://max983.ca/event/tarabish-tournament-3/
END:VEVENT
END:VCALENDAR