BEGIN:VCALENDAR
VERSION:2.0
PRODID:-//Max 98.3 - ECPv4.6.26//NONSGML v1.0//EN
CALSCALE:GREGORIAN
METHOD:PUBLISH
X-WR-CALNAME:Max 98.3
X-ORIGINAL-URL:https://max983.ca
X-WR-CALDESC:Events for Max 98.3
BEGIN:VEVENT
DTSTART;TZID=America/Halifax:20190505T140000
DTEND;TZID=America/Halifax:20190505T160000
DTSTAMP:20260425T101757
CREATED:20190502T180403Z
LAST-MODIFIED:20190502T180403Z
UID:6009-1557064800-1557072000@max983.ca
SUMMARY:Tea and Sale
DESCRIPTION:Sydney Forks Recreation Centre will host a Tea and Sale Fundraiser on Sunday\, May 5th at the Centre. Time: 2 PM – 4 PM. \nCommunity Support is greatly appreciated. \n
URL:https://max983.ca/event/tea-and-sale-9/
END:VEVENT
END:VCALENDAR