BEGIN:VCALENDAR
VERSION:2.0
PRODID:-//Max 98.3 - ECPv4.6.26//NONSGML v1.0//EN
CALSCALE:GREGORIAN
METHOD:PUBLISH
X-WR-CALNAME:Max 98.3
X-ORIGINAL-URL:https://max983.ca
X-WR-CALDESC:Events for Max 98.3
BEGIN:VEVENT
DTSTART;TZID=America/Halifax:20200829T100000
DTEND;TZID=America/Halifax:20200829T113000
DTSTAMP:20260420T084757
CREATED:20200716T122630Z
LAST-MODIFIED:20200716T122630Z
UID:8644-1598695200-1598700600@max983.ca
SUMMARY:The Good Food Bus
DESCRIPTION:The New Aberdeen Revitalization Society is hosting The Good Food Bus at Warden United Church\, Fifth Street\, Glace Bay. The bus will be parked with fresh fruits and veggies at a reduced price on Aug 29th from 10:00am – 11:30am. There will also be an accompanying vendor/flea market. Everything will be held outdoors and social distancing protocols will be in place. \n
URL:https://max983.ca/event/the-good-food-bus-4/
CATEGORIES:Community Events
END:VEVENT
END:VCALENDAR