BEGIN:VCALENDAR
VERSION:2.0
PRODID:-//Max 98.3 - ECPv4.6.26//NONSGML v1.0//EN
CALSCALE:GREGORIAN
METHOD:PUBLISH
X-WR-CALNAME:Max 98.3
X-ORIGINAL-URL:https://max983.ca
X-WR-CALDESC:Events for Max 98.3
BEGIN:VEVENT
DTSTART;TZID=America/Halifax:20170228T190000
DTEND;TZID=America/Halifax:20170228T200000
DTSTAMP:20260424T023754
CREATED:20170223T151213Z
LAST-MODIFIED:20170223T151213Z
UID:1997-1488308400-1488312000@max983.ca
SUMMARY:The Sunjata Story: A Glimpse of Mande Epic
DESCRIPTION:The Sunjata Story: A Glimpse of a Mande Epic \nA Global Musics Local Connections FILM SERIES \nTuesday\, February 28th \n7 PM \nMcConnell Library \nThe life story of Sunjata Keita\, the prince who founded West Africa’s greatest empire almost 800 years ago\, has been passed down for generations. The McConnell Library will host a special performance of this story featuring two master musicians from Mali: singer Hawa Kassé Mady Diabaté accompanied on balafon by Fodé Lassana Diabaté\, with poetic translation by Professor Cherif Keita. \nThe evening will include a film\, discussion and musical performance. Everyone welcome. \nThis is the first in a series of films as part of Global Musics – Local Connections Film Festival. \nSponsored by The Centre for Sound Communities (CBU). \n \n
URL:https://max983.ca/event/the-sunjata-story-a-glimpse-of-mande-epic/
END:VEVENT
END:VCALENDAR