BEGIN:VCALENDAR
VERSION:2.0
PRODID:-//Max 98.3 - ECPv4.6.26//NONSGML v1.0//EN
CALSCALE:GREGORIAN
METHOD:PUBLISH
X-WR-CALNAME:Max 98.3
X-ORIGINAL-URL:https://max983.ca
X-WR-CALDESC:Events for Max 98.3
BEGIN:VEVENT
DTSTART;TZID=America/Halifax:20200227T100000
DTEND;TZID=America/Halifax:20200227T213000
DTSTAMP:20260419T115728
CREATED:20200127T141250Z
LAST-MODIFIED:20200127T141250Z
UID:7435-1582797600-1582839000@max983.ca
SUMMARY:Thursdays at the Steelworkers and Sydney Pensioners Club
DESCRIPTION:Steelworkers and Pensioners Club\, Inglis Street\, Sydney \nExercise Class at 10 AM. Everyone Welcome \nTarabish Game at 130 PM.  Everyone Welcome \nTarabish Game at 730 PM. Everyone Welcome \n
URL:https://max983.ca/event/thursdays-at-the-steelworkers-and-sydney-pensioners-club-3/
END:VEVENT
END:VCALENDAR