BEGIN:VCALENDAR
VERSION:2.0
PRODID:-//Max 98.3 - ECPv4.6.26//NONSGML v1.0//EN
CALSCALE:GREGORIAN
METHOD:PUBLISH
X-WR-CALNAME:Max 98.3
X-ORIGINAL-URL:https://max983.ca
X-WR-CALDESC:Events for Max 98.3
BEGIN:VEVENT
DTSTART;TZID=America/Halifax:20260513T180000
DTEND;TZID=America/Halifax:20260513T190000
DTSTAMP:20260420T232356
CREATED:20260420T175635Z
LAST-MODIFIED:20260420T175635Z
UID:15647-1778695200-1778698800@max983.ca
SUMMARY:Tissue Paper Flowers
DESCRIPTION:Glace Bay Library \nWed May 13   6-7pm \nMake some beautiful flowers for Spring. \n  \n
URL:https://max983.ca/event/tissue-paper-flowers/
END:VEVENT
END:VCALENDAR