BEGIN:VCALENDAR
VERSION:2.0
PRODID:-//Max 98.3 - ECPv4.6.26//NONSGML v1.0//EN
CALSCALE:GREGORIAN
METHOD:PUBLISH
X-WR-CALNAME:Max 98.3
X-ORIGINAL-URL:https://max983.ca
X-WR-CALDESC:Events for Max 98.3
BEGIN:VEVENT
DTSTART;TZID=America/Halifax:20190411T183000
DTEND;TZID=America/Halifax:20190411T200000
DTSTAMP:20260422T121408
CREATED:20190402T161648Z
LAST-MODIFIED:20190402T161648Z
UID:5804-1555007400-1555012800@max983.ca
SUMMARY:Tompkins Memorial Library
DESCRIPTION:For the Birds \nTompkins Memorial Library\, Reserve Mines \nThursday\, April 11 \n6:30-8:00 pm \nJoin us to learn how to feed our feathered friends and paint a wooden feeder for your own backyard. \n  \nThis is an adult program and registration is required. \nCall 902-849-6685 or email reservem@nssc.library.ns.ca \n  \n
URL:https://max983.ca/event/tompkins-memorial-library/
END:VEVENT
END:VCALENDAR