BEGIN:VCALENDAR
VERSION:2.0
PRODID:-//Max 98.3 - ECPv4.6.26//NONSGML v1.0//EN
CALSCALE:GREGORIAN
METHOD:PUBLISH
X-WR-CALNAME:Max 98.3
X-ORIGINAL-URL:https://max983.ca
X-WR-CALDESC:Events for Max 98.3
BEGIN:VEVENT
DTSTART;TZID=America/Halifax:20201218T170000
DTEND;TZID=America/Halifax:20201218T200000
DTSTAMP:20260423T140510
CREATED:20201118T201442Z
LAST-MODIFIED:20201118T201610Z
UID:9172-1608310800-1608321600@max983.ca
SUMMARY:Two River Wildlife Park Winter Light Up
DESCRIPTION:We are excited to announce our annual Winter Light Up here at the Park. Due to Covid-19 restrictions tickets will be sold by the hour at 5\,6 and 7pm. Tickets can be purchased at the park or by phone at (902) 727-2483.\nMasks are mandatory. All provincial COVID-19 guidelines must be followed.\n
URL:https://max983.ca/event/two-river-wildlife-park-winter-light-up/2020-12-18/
LOCATION:Two Rivers Wildlife Park
CATEGORIES:Community Events
END:VEVENT
END:VCALENDAR