BEGIN:VCALENDAR
VERSION:2.0
PRODID:-//Max 98.3 - ECPv4.6.26//NONSGML v1.0//EN
CALSCALE:GREGORIAN
METHOD:PUBLISH
X-WR-CALNAME:Max 98.3
X-ORIGINAL-URL:https://max983.ca
X-WR-CALDESC:Events for Max 98.3
BEGIN:VEVENT
DTSTART;TZID=America/Halifax:20170520T150000
DTEND;TZID=America/Halifax:20170520T220000
DTSTAMP:20260422T121639
CREATED:20170510T140219Z
LAST-MODIFIED:20170510T140219Z
UID:2591-1495292400-1495317600@max983.ca
SUMMARY:Undercurrent Youth Centre 2nd Annual Destigmatize
DESCRIPTION:2nd Annual Destigmatize! Undercurrent Youth Centre \nSaturday May 20th from 3 PM – 10 PM\, Undercurrent Youth Centre on 75 Prince Street\, Sydney \nAll ages concert to raise money/awareness for mental health efforts in Cape Breton. \nAdmission $10 or by donation! \nLineup:  Bailey Shibinette\, Rob Murphy\, The Oaklands\, Tamarack\, Mercy for the lost\, Electric Spoonful\, Nomad with King Tha Caper & King Cobra\, 10 slip\, Quik Fhix\, Cap Gun\, Keith Doom and The Wrecking Crew\, Static In Action \n
URL:https://max983.ca/event/undercurrent-youth-centre-2nd-annual-destigmatize/
END:VEVENT
END:VCALENDAR