BEGIN:VCALENDAR
VERSION:2.0
PRODID:-//Max 98.3 - ECPv4.6.26//NONSGML v1.0//EN
CALSCALE:GREGORIAN
METHOD:PUBLISH
X-WR-CALNAME:Max 98.3
X-ORIGINAL-URL:https://max983.ca
X-WR-CALDESC:Events for Max 98.3
BEGIN:VEVENT
DTSTART;VALUE=DATE:20250924
DTEND;VALUE=DATE:20250925
DTSTAMP:20260419T124407
CREATED:20250915T134050Z
LAST-MODIFIED:20250915T134050Z
UID:15067-1758672000-1758758399@max983.ca
SUMMARY:United Way Cape Breton's Annual General Meeting
DESCRIPTION:United Way Cape Breton’s Annual General Meeting is taking place Wednesday\, September 24th\, 2025 at noon. It will be held virtually.\nTo access the link\, please call\n902-562-5226\nor email\nerinuwcb@gmail.com \n
URL:https://max983.ca/event/united-way-cape-bretons-annual-general-meeting/
END:VEVENT
END:VCALENDAR