BEGIN:VCALENDAR
VERSION:2.0
PRODID:-//Max 98.3 - ECPv4.6.26//NONSGML v1.0//EN
CALSCALE:GREGORIAN
METHOD:PUBLISH
X-WR-CALNAME:Max 98.3
X-ORIGINAL-URL:https://max983.ca
X-WR-CALDESC:Events for Max 98.3
BEGIN:VEVENT
DTSTART;VALUE=DATE:20170213
DTEND;VALUE=DATE:20170214
DTSTAMP:20260425T031653
CREATED:20170216T210541Z
LAST-MODIFIED:20170216T210541Z
UID:1934-1486944000-1487030399@max983.ca
SUMMARY:Valentine's Bunco Night
DESCRIPTION:St. Mary’s Senior Guild\nValentine’s Bunco Night\n(Prizes and Light Lunch)\nMonday\, February 13\, 2017 at 7 PM\nSt. Mary’s Hall\n8 Marconi Street\, Glace Bay\n$5 at the door \n
URL:https://max983.ca/event/valentines-bunco-night/
END:VEVENT
END:VCALENDAR