BEGIN:VCALENDAR
VERSION:2.0
PRODID:-//Max 98.3 - ECPv4.6.26//NONSGML v1.0//EN
CALSCALE:GREGORIAN
METHOD:PUBLISH
X-WR-CALNAME:Max 98.3
X-ORIGINAL-URL:https://max983.ca
X-WR-CALDESC:Events for Max 98.3
BEGIN:VEVENT
DTSTART;TZID=America/Halifax:20240210T210000
DTEND;TZID=America/Halifax:20240211T010000
DTSTAMP:20260422T121419
CREATED:20240109T153034Z
LAST-MODIFIED:20240109T153034Z
UID:13467-1707598800-1707613200@max983.ca
SUMMARY:Valentines Day Dance
DESCRIPTION:February 10th\n9pm-1am\n19+\n$10 a person – pay at the door\nMusic by: DJ Frances MacNeil \nBrookshaven hall\n1748 Alexander St\, Prime brook \n
URL:https://max983.ca/event/valentines-day-dance/
END:VEVENT
END:VCALENDAR