BEGIN:VCALENDAR
VERSION:2.0
PRODID:-//Max 98.3 - ECPv4.6.26//NONSGML v1.0//EN
CALSCALE:GREGORIAN
METHOD:PUBLISH
X-WR-CALNAME:Max 98.3
X-ORIGINAL-URL:https://max983.ca
X-WR-CALDESC:Events for Max 98.3
BEGIN:VEVENT
DTSTART;TZID=America/Halifax:20210207T140000
DTEND;TZID=America/Halifax:20210207T150000
DTSTAMP:20260423T104412
CREATED:20210203T133603Z
LAST-MODIFIED:20210203T133713Z
UID:9583-1612706400-1612710000@max983.ca
SUMMARY:Walk N Talk
DESCRIPTION:Due to COVID\, many programs that allowed people to gather in group settings to talk about different issues have not been able to gather since the pandemic began to shut things down. Our group wanted to come up with a solution to this because even though some groups have turned to online strategies to meet\, this leaves a lot of people unable to participate as not everyone has the technology to go on on-line meetings. \nIt will take place every Sunday for the month of February. So\, February 7th\, 14th\, 21st and the 28th.  \nTime: 2-3 pm \nWhere:  We will meet at St. George’s Anglican Church parking lot beside Loaves & Fishes \n  \nWE are inviting anyone in the community that is feeling alone\, isolated\, and quite simply just stressed and needing to connect with others during this difficult and stressful time an opportunity to come out and go for a leisurely stroll\, enjoy friendly conversation and some fresh air. Know that you are alone\, we are in this together. \n  \nWe will have extra hats\, mitts\, and scarves on site if needed along with masks. \n  \nSocial distancing will be maintained to ensure health guidelines are met. \n  \nWe look forward to seeing you there! \n
URL:https://max983.ca/event/walk-n-talk/2021-02-07/
CATEGORIES:Community Events
END:VEVENT
END:VCALENDAR