BEGIN:VCALENDAR
VERSION:2.0
PRODID:-//Max 98.3 - ECPv4.6.26//NONSGML v1.0//EN
CALSCALE:GREGORIAN
METHOD:PUBLISH
X-WR-CALNAME:Max 98.3
X-ORIGINAL-URL:https://max983.ca
X-WR-CALDESC:Events for Max 98.3
BEGIN:VEVENT
DTSTART;TZID=America/Halifax:20190222T180000
DTEND;TZID=America/Halifax:20190222T200000
DTSTAMP:20260420T200842
CREATED:20190205T191508Z
LAST-MODIFIED:20190205T191508Z
UID:5592-1550858400-1550865600@max983.ca
SUMMARY:West Mabou Trails Hike
DESCRIPTION:West Mabou Trails Hike: Feb. 22\nHike Nova Scotia and the West Mabou Sports Club present a guided snowshoe hike in West Mabou on February 22 at 6 pm (hike if no snow). You must pre-register at nhunt861@gmail.com (must request snowshoes or bring own). Qualify to win a trail prize. See www.hikenovascotia.ca for details. \n
URL:https://max983.ca/event/west-mabou-trails-hike/
END:VEVENT
END:VCALENDAR