BEGIN:VCALENDAR
VERSION:2.0
PRODID:-//Max 98.3 - ECPv4.6.26//NONSGML v1.0//EN
CALSCALE:GREGORIAN
METHOD:PUBLISH
X-WR-CALNAME:Max 98.3
X-ORIGINAL-URL:https://max983.ca
X-WR-CALDESC:Events for Max 98.3
BEGIN:VEVENT
DTSTART;TZID=America/Halifax:20260428T180000
DTEND;TZID=America/Halifax:20260428T190000
DTSTAMP:20260424T111439
CREATED:20260420T172708Z
LAST-MODIFIED:20260420T172708Z
UID:15635-1777399200-1777402800@max983.ca
SUMMARY:Wildfires: Being Prepared
DESCRIPTION:April 28th 6:00pm-7:00pm \nMatt Lever from CBRM Emergency Management will share a presentation on Wildfires & Preparedness. \nPersonal Preparedness\nWildfire Risk\nWildfire Prevention\nFireSmart for Your Home\nEmergency Notification & Evacuation \nRegistration is not required. \n
URL:https://max983.ca/event/wildfires-being-prepared-2/
END:VEVENT
END:VCALENDAR