BEGIN:VCALENDAR
VERSION:2.0
PRODID:-//Max 98.3 - ECPv4.6.26//NONSGML v1.0//EN
CALSCALE:GREGORIAN
METHOD:PUBLISH
X-WR-CALNAME:Max 98.3
X-ORIGINAL-URL:https://max983.ca
X-WR-CALDESC:Events for Max 98.3
BEGIN:VEVENT
DTSTART;TZID=America/Halifax:20230523T133000
DTEND;TZID=America/Halifax:20230523T143000
DTSTAMP:20260424T125420
CREATED:20230505T175214Z
LAST-MODIFIED:20230505T175214Z
UID:12745-1684848600-1684852200@max983.ca
SUMMARY:Yoga @ the library
DESCRIPTION:Glace Bay Library \nTuesday May 23 \n1:30pm – 2:30pm \nJoin us for an hour of Yoga.  Mats and blocks provided.  Registration is required as space is limited. \n  \n
URL:https://max983.ca/event/yoga-the-library-6/
END:VEVENT
END:VCALENDAR