BEGIN:VCALENDAR
VERSION:2.0
PRODID:-//Max 98.3 - ECPv4.6.26//NONSGML v1.0//EN
CALSCALE:GREGORIAN
METHOD:PUBLISH
X-WR-CALNAME:Max 98.3
X-ORIGINAL-URL:https://max983.ca
X-WR-CALDESC:Events for Max 98.3
BEGIN:VEVENT
DTSTART;VALUE=DATE:20170215
DTEND;VALUE=DATE:20170216
DTSTAMP:20260424T223513
CREATED:20170216T210240Z
LAST-MODIFIED:20170216T210240Z
UID:1931-1487116800-1487203199@max983.ca
SUMMARY:Living With Cancer Support Group
DESCRIPTION:Living With Cancer Support Group\, a support group for those who have had a diagnosis of cancer\, for their family\, caregivers will meet Wednesday\, Feb. 15th\, 2017\, 1:30 pm – 3:30 pm at Royal Canadian Legion\, Branch 128 (Pier)\, Victoria Road.  Facilitator- Tom McNeil\, CBCC Social Worker \n
URL:https://max983.ca/event/living-with-cancer-support-group/
END:VEVENT
BEGIN:VEVENT
DTSTART;VALUE=DATE:20170215
DTEND;VALUE=DATE:20170216
DTSTAMP:20260424T223513
CREATED:20170216T210319Z
LAST-MODIFIED:20170216T210319Z
UID:1932-1487116800-1487203199@max983.ca
SUMMARY:Death Café
DESCRIPTION:Death Café\nWednesday\, February 15th  \n6:30 PM\nMcConnell Library \nA Death Café is a free group-directed conversation about death. \nThere is no agenda or objective other than talking about our own questions\, reflections and thoughts about death in an accepting\, respectful and confidential space. \nFacilitator: Barbara Weinberg (RN\, BSN) \nEveryone welcome. \nNote: the event is not a grief support or counseling session. \nTo rsvp.\, or for more info. please email Barbara at gateoflifeacu@gmail.com \n
URL:https://max983.ca/event/death-cafe/
END:VEVENT
END:VCALENDAR