BEGIN:VCALENDAR
VERSION:2.0
PRODID:-//Max 98.3 - ECPv4.6.26//NONSGML v1.0//EN
CALSCALE:GREGORIAN
METHOD:PUBLISH
X-WR-CALNAME:Max 98.3
X-ORIGINAL-URL:https://max983.ca
X-WR-CALDESC:Events for Max 98.3
BEGIN:VEVENT
DTSTART;VALUE=DATE:20170216
DTEND;VALUE=DATE:20170217
DTSTAMP:20260424T204722
CREATED:20170216T212432Z
LAST-MODIFIED:20170216T212432Z
UID:1945-1487203200-1487289599@max983.ca
SUMMARY:Board Games Night @ the Library
DESCRIPTION:Board Games Night @ the Library\nThursday Feb 16th\, 6:00-9:00 pm \nCome and enjoy a variety of great board and card games. There are lots to choose from including Settlers of Catan\, Ticket to Ride\, Skip Bo\, classics like Balderdash\, Scrabble\, Clue\, Monopoly\, and more!  \nDrop in and bring your friends!  If you have a favorite game you’d like to share\, bring it too! \nLocated in the adult section of the library tonight to make room for an African Dance demo in the children’s library at 7 pm. \nEveryone welcome! \n
URL:https://max983.ca/event/board-games-night-the-library/
END:VEVENT
END:VCALENDAR