BEGIN:VCALENDAR
VERSION:2.0
PRODID:-//Max 98.3 - ECPv4.6.26//NONSGML v1.0//EN
CALSCALE:GREGORIAN
METHOD:PUBLISH
X-WR-CALNAME:Max 98.3
X-ORIGINAL-URL:https://max983.ca
X-WR-CALDESC:Events for Max 98.3
BEGIN:VEVENT
DTSTART;VALUE=DATE:20170218
DTEND;VALUE=DATE:20170219
DTSTAMP:20260424T173931
CREATED:20170125T173949Z
LAST-MODIFIED:20170125T173949Z
UID:1873-1487376000-1487462399@max983.ca
SUMMARY:GARY W. ROSS MEMORIAL SNOW MOBILE RACES
DESCRIPTION: \n
URL:https://max983.ca/event/gary-w-ross-memorial-snow-mobile-races/
CATEGORIES:Community Events
END:VEVENT
BEGIN:VEVENT
DTSTART;VALUE=DATE:20170218
DTEND;VALUE=DATE:20170219
DTSTAMP:20260424T173931
CREATED:20170216T205648Z
LAST-MODIFIED:20170216T205648Z
UID:1926-1487376000-1487462399@max983.ca
SUMMARY:Schooner Fun Night
DESCRIPTION:Schooner Fun Night at the Sydney Curling Club\, Saturday\, February 18th. Start time 7pm. Fun nights are open events when anyone who wants to try curling can come up to the club. The cost is $7 per person and that gets you your curling and some pizza. We even have a couple of prizes to give away on most nights. \nDrop by anytime during the evening after 7pm. All equipment and instruction is provided but we asked people to bring clean\, dry sneakers for the ice. Again\, cost is $7 and that includes some pizza and a possible chance at a prize. \n
URL:https://max983.ca/event/schooner-fun-night/
END:VEVENT
END:VCALENDAR